BEGIN:VCALENDAR
VERSION:2.0
PRODID:-//City of Keene - ECPv6.15.20//NONSGML v1.0//EN
CALSCALE:GREGORIAN
METHOD:PUBLISH
X-WR-CALNAME:City of Keene
X-ORIGINAL-URL:https://keenenh.gov
X-WR-CALDESC:Events for City of Keene
REFRESH-INTERVAL;VALUE=DURATION:PT1H
X-Robots-Tag:noindex
X-PUBLISHED-TTL:PT1H
BEGIN:VTIMEZONE
TZID:America/New_York
BEGIN:DAYLIGHT
TZOFFSETFROM:-0500
TZOFFSETTO:-0400
TZNAME:EDT
DTSTART:20240310T070000
END:DAYLIGHT
BEGIN:STANDARD
TZOFFSETFROM:-0400
TZOFFSETTO:-0500
TZNAME:EST
DTSTART:20241103T060000
END:STANDARD
BEGIN:DAYLIGHT
TZOFFSETFROM:-0500
TZOFFSETTO:-0400
TZNAME:EDT
DTSTART:20250309T070000
END:DAYLIGHT
BEGIN:STANDARD
TZOFFSETFROM:-0400
TZOFFSETTO:-0500
TZNAME:EST
DTSTART:20251102T060000
END:STANDARD
BEGIN:DAYLIGHT
TZOFFSETFROM:-0500
TZOFFSETTO:-0400
TZNAME:EDT
DTSTART:20260308T070000
END:DAYLIGHT
BEGIN:STANDARD
TZOFFSETFROM:-0400
TZOFFSETTO:-0500
TZNAME:EST
DTSTART:20261101T060000
END:STANDARD
END:VTIMEZONE
BEGIN:VEVENT
DTSTART;TZID=America/New_York:20251119T093000
DTEND;TZID=America/New_York:20251119T110000
DTSTAMP:20260425T165143
CREATED:20241112T195838Z
LAST-MODIFIED:20250327T155653Z
UID:1409-1763544600-1763550000@keenenh.gov
SUMMARY:Trustees of Trust Funds
DESCRIPTION:
URL:https://keenenh.gov/event/trustees-of-trust-funds-13/
LOCATION:City of Keene\, 3 Washington St\, Keene\, NH 03431\, 2nd Floor conference room\, 3 Washington St\, Keene\, NH\, 03431\, United States
END:VEVENT
BEGIN:VEVENT
DTSTART;TZID=America/New_York:20251119T163000
DTEND;TZID=America/New_York:20251119T183000
DTSTAMP:20260425T165143
CREATED:20251007T210441Z
LAST-MODIFIED:20260220T044640Z
UID:23483-1763569800-1763577000@keenenh.gov
SUMMARY:Historic District Commission
DESCRIPTION:HDC meetings are generally held the third Wednesday of the month at 4:30 pm in the Second Floor Council Chambers of City Hall.
URL:https://keenenh.gov/event/historic-district-commission-8/
LOCATION:#Council Chambers A\, 2017 E Washington Rd\, Washington\, NH\, United States
END:VEVENT
BEGIN:VEVENT
DTSTART;TZID=America/New_York:20251119T163000
DTEND;TZID=America/New_York:20251119T183000
DTSTAMP:20260425T165143
CREATED:20251010T151934Z
LAST-MODIFIED:20260116T045015Z
UID:23840-1763569800-1763577000@keenenh.gov
SUMMARY:Historic District Commission
DESCRIPTION:HDC meetings are generally held the third Wednesday of the month at 4:30 pm in the Second Floor Council Chambers of City Hall.
URL:https://keenenh.gov/event/historic-district-commission-9/
LOCATION:#Council Chambers A\, 2017 E Washington Rd\, Washington\, NH\, United States
END:VEVENT
END:VCALENDAR