BEGIN:VCALENDAR
VERSION:2.0
PRODID:-//City of Keene - ECPv6.15.20//NONSGML v1.0//EN
CALSCALE:GREGORIAN
METHOD:PUBLISH
X-WR-CALNAME:City of Keene
X-ORIGINAL-URL:https://keenenh.gov
X-WR-CALDESC:Events for City of Keene
REFRESH-INTERVAL;VALUE=DURATION:PT1H
X-Robots-Tag:noindex
X-PUBLISHED-TTL:PT1H
BEGIN:VTIMEZONE
TZID:America/New_York
BEGIN:DAYLIGHT
TZOFFSETFROM:-0500
TZOFFSETTO:-0400
TZNAME:EDT
DTSTART:20250309T070000
END:DAYLIGHT
BEGIN:STANDARD
TZOFFSETFROM:-0400
TZOFFSETTO:-0500
TZNAME:EST
DTSTART:20251102T060000
END:STANDARD
BEGIN:DAYLIGHT
TZOFFSETFROM:-0500
TZOFFSETTO:-0400
TZNAME:EDT
DTSTART:20260308T070000
END:DAYLIGHT
BEGIN:STANDARD
TZOFFSETFROM:-0400
TZOFFSETTO:-0500
TZNAME:EST
DTSTART:20261101T060000
END:STANDARD
BEGIN:DAYLIGHT
TZOFFSETFROM:-0500
TZOFFSETTO:-0400
TZNAME:EDT
DTSTART:20270314T070000
END:DAYLIGHT
BEGIN:STANDARD
TZOFFSETFROM:-0400
TZOFFSETTO:-0500
TZNAME:EST
DTSTART:20271107T060000
END:STANDARD
END:VTIMEZONE
BEGIN:VEVENT
DTSTART;TZID=America/New_York:20260226T180000
DTEND;TZID=America/New_York:20260226T193000
DTSTAMP:20260425T083118
CREATED:20260327T151349Z
LAST-MODIFIED:20260327T151349Z
UID:51430-1772128800-1772134200@keenenh.gov
SUMMARY:Finance\, Organization and Personnel Committee
DESCRIPTION:
URL:https://keenenh.gov/event/finance-organization-and-personnel-committee-2026-02-26/
LOCATION:ICS Imported Location
END:VEVENT
BEGIN:VEVENT
DTSTART;TZID=America/New_York:20260226T190000
DTEND;TZID=America/New_York:20260226T193000
DTSTAMP:20260425T083118
CREATED:20260327T151354Z
LAST-MODIFIED:20260327T151354Z
UID:51438-1772132400-1772134200@keenenh.gov
SUMMARY:Checklist Supervisors Session
DESCRIPTION:The Supervisors of the Checklist will be in session from 7:00 PM to 7:30 PM at Keene City Hall for the purposes of accepting additions\, changes\, and deletions from the City of Keene voter checklist in anticipation of the start of the March 10\, 2026 Keene School Board Election.  Questions regarding filing for School Board should be directed to SAU 29 – 603-357-9002.
URL:https://keenenh.gov/event/checklist-supervisors-session-2026-02-26/
LOCATION:ICS Imported Location
END:VEVENT
END:VCALENDAR