BEGIN:VCALENDAR
VERSION:2.0
PRODID:-//City of Keene - ECPv6.15.20//NONSGML v1.0//EN
CALSCALE:GREGORIAN
METHOD:PUBLISH
X-WR-CALNAME:City of Keene
X-ORIGINAL-URL:https://keenenh.gov
X-WR-CALDESC:Events for City of Keene
REFRESH-INTERVAL;VALUE=DURATION:PT1H
X-Robots-Tag:noindex
X-PUBLISHED-TTL:PT1H
BEGIN:VTIMEZONE
TZID:America/New_York
BEGIN:DAYLIGHT
TZOFFSETFROM:-0500
TZOFFSETTO:-0400
TZNAME:EDT
DTSTART:20250309T070000
END:DAYLIGHT
BEGIN:STANDARD
TZOFFSETFROM:-0400
TZOFFSETTO:-0500
TZNAME:EST
DTSTART:20251102T060000
END:STANDARD
BEGIN:DAYLIGHT
TZOFFSETFROM:-0500
TZOFFSETTO:-0400
TZNAME:EDT
DTSTART:20260308T070000
END:DAYLIGHT
BEGIN:STANDARD
TZOFFSETFROM:-0400
TZOFFSETTO:-0500
TZNAME:EST
DTSTART:20261101T060000
END:STANDARD
BEGIN:DAYLIGHT
TZOFFSETFROM:-0500
TZOFFSETTO:-0400
TZNAME:EDT
DTSTART:20270314T070000
END:DAYLIGHT
BEGIN:STANDARD
TZOFFSETFROM:-0400
TZOFFSETTO:-0500
TZNAME:EST
DTSTART:20271107T060000
END:STANDARD
END:VTIMEZONE
BEGIN:VEVENT
DTSTART;TZID=America/New_York:20260512T081500
DTEND;TZID=America/New_York:20260512T091500
DTSTAMP:20260424T235124
CREATED:20260413T164711Z
LAST-MODIFIED:20260424T143336Z
UID:52128-1778573700-1778577300@keenenh.gov
SUMMARY:Ashuelot River Park Advisory Board
DESCRIPTION:
URL:https://keenenh.gov/event/ashuelot-river-park-advisory-board-2026-05-12-2/
LOCATION:ICS Imported Location
END:VEVENT
BEGIN:VEVENT
DTSTART;TZID=America/New_York:20260512T170000
DTEND;TZID=America/New_York:20260512T180000
DTSTAMP:20260424T235124
CREATED:20260413T174331Z
LAST-MODIFIED:20260424T143417Z
UID:52223-1778605200-1778608800@keenenh.gov
SUMMARY:Partner City Committee
DESCRIPTION:
URL:https://keenenh.gov/event/partner-city-committee-2026-05-12-2/
LOCATION:ICS Imported Location
END:VEVENT
BEGIN:VEVENT
DTSTART;TZID=America/New_York:20260512T173000
DTEND;TZID=America/New_York:20260512T193000
DTSTAMP:20260424T235124
CREATED:20260416T134358Z
LAST-MODIFIED:20260424T143422Z
UID:52341-1778607000-1778614200@keenenh.gov
SUMMARY:Special Finance\, Organization and Personnel Committee Meeting
DESCRIPTION:Budget Review – Overview\,  General Fund Revenues & Expenditures\, Debt Service\, Mayor & City Council\, Outside Agencies\, Human Services\, Unclassified Items\, Capital Appropriations\, Employee Benefits\, Risk Management\, City Clerk\, City Manager’s Office\, Community Development\, Airport\, Library\, Parks & Recreation\, Facilities.
URL:https://keenenh.gov/event/special-finance-organization-and-personnel-committee-meeting-2026-05-12/
LOCATION:ICS Imported Location
END:VEVENT
END:VCALENDAR